BEGIN:VCALENDAR
VERSION:2.0
PRODID:-//East Cobb News - ECPv6.15.20//NONSGML v1.0//EN
CALSCALE:GREGORIAN
METHOD:PUBLISH
X-ORIGINAL-URL:https://eastcobbnews.com
X-WR-CALDESC:Events for East Cobb News
REFRESH-INTERVAL;VALUE=DURATION:PT1H
X-Robots-Tag:noindex
X-PUBLISHED-TTL:PT1H
BEGIN:VTIMEZONE
TZID:America/New_York
BEGIN:DAYLIGHT
TZOFFSETFROM:-0500
TZOFFSETTO:-0400
TZNAME:EDT
DTSTART:20250309T070000
END:DAYLIGHT
BEGIN:STANDARD
TZOFFSETFROM:-0400
TZOFFSETTO:-0500
TZNAME:EST
DTSTART:20251102T060000
END:STANDARD
BEGIN:DAYLIGHT
TZOFFSETFROM:-0500
TZOFFSETTO:-0400
TZNAME:EDT
DTSTART:20260308T070000
END:DAYLIGHT
BEGIN:STANDARD
TZOFFSETFROM:-0400
TZOFFSETTO:-0500
TZNAME:EST
DTSTART:20261101T060000
END:STANDARD
BEGIN:DAYLIGHT
TZOFFSETFROM:-0500
TZOFFSETTO:-0400
TZNAME:EDT
DTSTART:20270314T070000
END:DAYLIGHT
BEGIN:STANDARD
TZOFFSETFROM:-0400
TZOFFSETTO:-0500
TZNAME:EST
DTSTART:20271107T060000
END:STANDARD
END:VTIMEZONE
BEGIN:VEVENT
DTSTART;TZID=America/New_York:20260328T100000
DTEND;TZID=America/New_York:20260328T160000
DTSTAMP:20260423T060312
CREATED:20260316T204253Z
LAST-MODIFIED:20260316T204259Z
UID:56653-1774692000-1774713600@eastcobbnews.com
SUMMARY:Grace Resurrection Methodist Art and Crafts Show
DESCRIPTION:Calling all talented GRMC artists\, craftsmen\, culinary and specialty folks for the 1st ever event at GRMC on Saturday\, March 28. \nNow is your opportunity to show and sell your special talents. We are looking for artwork\, jewelry\, baked goods\, woodwork\, pottery\, photography\, mixed media\, glasswork\, sculpture\, and other handmade goods. \nThis show will be open to the public to purchase your wares. More details to follow soon. \nTo register please contact Eddie Huffaker\, cehuffaker@gmail.com. \nShare this post:Tweet\n				Share on Instagram (Opens in new window)\n				Instagram\n			\n				Email a link to a friend (Opens in new window)\n				Email\n			\n				Print (Opens in new window)\n				Print\n			Like this:Like Loading...
URL:https://eastcobbnews.com/event/grace-resurrection-methodist-art-and-crafts-show/
LOCATION:Grace Resurrection Methodist Church\, 1200 Indian Hills Parkway
CATEGORIES:Arts and Entertainment Events
END:VEVENT
END:VCALENDAR