BEGIN:VCALENDAR
VERSION:2.0
PRODID:-//East Cobb News - ECPv6.15.20//NONSGML v1.0//EN
CALSCALE:GREGORIAN
METHOD:PUBLISH
X-ORIGINAL-URL:https://eastcobbnews.com
X-WR-CALDESC:Events for East Cobb News
REFRESH-INTERVAL;VALUE=DURATION:PT1H
X-Robots-Tag:noindex
X-PUBLISHED-TTL:PT1H
BEGIN:VTIMEZONE
TZID:America/New_York
BEGIN:DAYLIGHT
TZOFFSETFROM:-0500
TZOFFSETTO:-0400
TZNAME:EDT
DTSTART:20250309T070000
END:DAYLIGHT
BEGIN:STANDARD
TZOFFSETFROM:-0400
TZOFFSETTO:-0500
TZNAME:EST
DTSTART:20251102T060000
END:STANDARD
BEGIN:DAYLIGHT
TZOFFSETFROM:-0500
TZOFFSETTO:-0400
TZNAME:EDT
DTSTART:20260308T070000
END:DAYLIGHT
BEGIN:STANDARD
TZOFFSETFROM:-0400
TZOFFSETTO:-0500
TZNAME:EST
DTSTART:20261101T060000
END:STANDARD
BEGIN:DAYLIGHT
TZOFFSETFROM:-0500
TZOFFSETTO:-0400
TZNAME:EDT
DTSTART:20270314T070000
END:DAYLIGHT
BEGIN:STANDARD
TZOFFSETFROM:-0400
TZOFFSETTO:-0500
TZNAME:EST
DTSTART:20271107T060000
END:STANDARD
END:VTIMEZONE
BEGIN:VEVENT
DTSTART;TZID=America/New_York:20260509T090000
DTEND;TZID=America/New_York:20260509T160000
DTSTAMP:20260423T085515
CREATED:20260112T214823Z
LAST-MODIFIED:20260112T214823Z
UID:55398-1778317200-1778342400@eastcobbnews.com
SUMMARY:Cobb Master Gardeners 23rd Annual Garden Tour
DESCRIPTION:Enjoy a day of self-guided discovery and get inspired to add native plants to your yard or patio with the Master Gardener Volunteers of Cobb County! \nVisit four gardens (all located in Marietta)\, on May 9th\, 2026\, between 9:00 am and 4:00 pm\, and learn from the homeowners and Master Gardener volunteers. \nTickets ($15 per person) will be available to purchase online (cobbmastergardeners.com/calendar/garden-tour/) starting April 17th. \nChildren 17 and under are free. This is a rain-or-shine event. \nShare this post:Tweet\n				Share on Instagram (Opens in new window)\n				Instagram\n			\n				Email a link to a friend (Opens in new window)\n				Email\n			\n				Print (Opens in new window)\n				Print\n			Like this:Like Loading...
URL:https://eastcobbnews.com/event/cobb-master-gardeners-23rd-annual-garden-tour/
CATEGORIES:Home and Garden Events
END:VEVENT
BEGIN:VEVENT
DTSTART;TZID=America/New_York:20260515T160000
DTEND;TZID=America/New_York:20260515T223000
DTSTAMP:20260423T085515
CREATED:20260413T195015Z
LAST-MODIFIED:20260413T195015Z
UID:57351-1778860800-1778884200@eastcobbnews.com
SUMMARY:Marietta Greek Festival
DESCRIPTION:East Cobb’s beloved Marietta Greek Festival is back for its 36th year! Come enjoy your favorite homemade Greek foods\, music\, dancing and atmosphere as you make your way around the beautiful grounds – experiencing the beauty of the Greek culture. \nThe festival is held at Holy Transfiguration Greek Orthodox Church (3431 Trickum Road\, Marietta GA 30066)\, with complimentary parking & shuttle services. \nAdmission is $5 and children under 12 are free. Secure your tickets ONLINE NOW! \nThe hours of operation are:Friday\, May 15th\, 4:00pm – 10:30pmSaturday\, May 16th\, 11:00am – 10:30pmSunday\, May 17th\, 11:00am – 4:00pm \n\nVisit www.mariettagreekfestival.com for more information about festival details\, sponsorship opportunities\, volunteer positions\, and more. \n\nShare this post:Tweet\n				Share on Instagram (Opens in new window)\n				Instagram\n			\n				Email a link to a friend (Opens in new window)\n				Email\n			\n				Print (Opens in new window)\n				Print\n			Like this:Like Loading...
URL:https://eastcobbnews.com/event/marietta-greek-festival-may-15-2026/
LOCATION:Holy Transfiguration Greek Orthodox Church\, 3431 Trickum Road
CATEGORIES:Cultural Events
END:VEVENT
BEGIN:VEVENT
DTSTART;TZID=America/New_York:20260516T080000
DTEND;TZID=America/New_York:20260516T110000
DTSTAMP:20260423T085515
CREATED:20260413T165654Z
LAST-MODIFIED:20260413T165654Z
UID:57303-1778918400-1778929200@eastcobbnews.com
SUMMARY:12th Annual Kettle Krush 5K/1K/Tot Trot
DESCRIPTION:For the first time\, the family friendly race/walk moves to East Cobb on May 16 at Mt. Bethel Church\, 4385 Lower Roswell Road. The Salvation Army Women’s Auxiliary organizes the fundraiser to help “krush” poverty\, homelessness and human trafficking while supporting veterans and youth enrichment in metro Atlanta.\n\nRegistration through May 6: 5K/$40\, 1K&Tot Trot/$25. After May 6: 5K/$45\, 1K&Tot Trot/$30. Race day: 5K/$50\, 1K&Tot Trot $30. Phantom: (T-shirt\, but no running/walking): $40. On race day\, late registration begins at 7 a.m.\, 5K begins at 8 a.m.\n\nFor registration and information on this Peachtree Road Race qualifier event: https://bit.ly/kettlekrush2026.\n\nShare this post:Tweet\n				Share on Instagram (Opens in new window)\n				Instagram\n			\n				Email a link to a friend (Opens in new window)\n				Email\n			\n				Print (Opens in new window)\n				Print\n			Like this:Like Loading...
URL:https://eastcobbnews.com/event/12th-annual-kettle-krush-5k-1k-tot-trot/
LOCATION:Mt. Bethel Church\, 4385 Lower Roswell Road\, Marietta
CATEGORIES:Community Events,Sports and Recreation Events
END:VEVENT
BEGIN:VEVENT
DTSTART;TZID=America/New_York:20260516T110000
DTEND;TZID=America/New_York:20260516T223000
DTSTAMP:20260423T085515
CREATED:20260413T195235Z
LAST-MODIFIED:20260413T195235Z
UID:57361-1778929200-1778970600@eastcobbnews.com
SUMMARY:Marietta Greek Festival
DESCRIPTION:East Cobb’s beloved Marietta Greek Festival is back for its 36th year! Come enjoy your favorite homemade Greek foods\, music\, dancing and atmosphere as you make your way around the beautiful grounds – experiencing the beauty of the Greek culture. \nThe festival is held at Holy Transfiguration Greek Orthodox Church (3431 Trickum Road\, Marietta GA 30066)\, with complimentary parking & shuttle services. \nAdmission is $5 and children under 12 are free. Secure your tickets ONLINE NOW! \nThe hours of operation are:Friday\, May 15th\, 4:00pm – 10:30pmSaturday\, May 16th\, 11:00am – 10:30pmSunday\, May 17th\, 11:00am – 4:00pm \n\nVisit www.mariettagreekfestival.com for more information about festival details\, sponsorship opportunities\, volunteer positions\, and more. \n\nShare this post:Tweet\n				Share on Instagram (Opens in new window)\n				Instagram\n			\n				Email a link to a friend (Opens in new window)\n				Email\n			\n				Print (Opens in new window)\n				Print\n			Like this:Like Loading...
URL:https://eastcobbnews.com/event/marietta-greek-festival-may-16-2026/
LOCATION:Holy Transfiguration Greek Orthodox Church\, 3431 Trickum Road
CATEGORIES:Cultural Events
END:VEVENT
BEGIN:VEVENT
DTSTART;TZID=America/New_York:20260517T110000
DTEND;TZID=America/New_York:20260517T160000
DTSTAMP:20260423T085515
CREATED:20260413T195425Z
LAST-MODIFIED:20260413T195425Z
UID:57363-1779015600-1779033600@eastcobbnews.com
SUMMARY:Marietta Greek Festival
DESCRIPTION:East Cobb’s beloved Marietta Greek Festival is back for its 36th year! Come enjoy your favorite homemade Greek foods\, music\, dancing and atmosphere as you make your way around the beautiful grounds – experiencing the beauty of the Greek culture. \nThe festival is held at Holy Transfiguration Greek Orthodox Church (3431 Trickum Road\, Marietta GA 30066)\, with complimentary parking & shuttle services. \nAdmission is $5 and children under 12 are free. Secure your tickets ONLINE NOW! \nThe hours of operation are:Friday\, May 15th\, 4:00pm – 10:30pmSaturday\, May 16th\, 11:00am – 10:30pmSunday\, May 17th\, 11:00am – 4:00pm \n\n\nVisit www.mariettagreekfestival.com for more information about festival details\, sponsorship opportunities\, volunteer positions\, and more. \n\n\nRelated\n\n\n\n\nShare this post:Tweet\n				Share on Instagram (Opens in new window)\n				Instagram\n			\n				Email a link to a friend (Opens in new window)\n				Email\n			\n				Print (Opens in new window)\n				Print\n			Like this:Like Loading...
URL:https://eastcobbnews.com/event/marietta-greek-festival-may-17-2026/
LOCATION:Holy Transfiguration Greek Orthodox Church\, 3431 Trickum Road
CATEGORIES:Cultural Events
END:VEVENT
BEGIN:VEVENT
DTSTART;TZID=America/New_York:20260517T150000
DTEND;TZID=America/New_York:20260517T170000
DTSTAMP:20260423T085515
CREATED:20260409T190528Z
LAST-MODIFIED:20260409T190528Z
UID:57166-1779030000-1779037200@eastcobbnews.com
SUMMARY:The Patriarchs—East Cobb Park Concert Series
DESCRIPTION:The final concert in the East Cobb Park Spring Concert series features The Patriarchs\, an acoustic trio based in Woodstock\, that weaves together the sounds of folk\, Americana\, modern pop\, and rock. \nBring chairs/blankets/food to enjoy at the back concert stage of the park. \nShare this post:Tweet\n				Share on Instagram (Opens in new window)\n				Instagram\n			\n				Email a link to a friend (Opens in new window)\n				Email\n			\n				Print (Opens in new window)\n				Print\n			Like this:Like Loading...
URL:https://eastcobbnews.com/event/the-patriarchs-east-cobb-park-concert-series/
LOCATION:East Cobb Park\, 3322 Roswell Road\, Marietta
CATEGORIES:Arts and Entertainment Events
END:VEVENT
END:VCALENDAR