BEGIN:VCALENDAR
VERSION:2.0
PRODID:-//East Cobb News - ECPv6.15.20//NONSGML v1.0//EN
CALSCALE:GREGORIAN
METHOD:PUBLISH
X-WR-CALNAME:East Cobb News
X-ORIGINAL-URL:https://eastcobbnews.com
X-WR-CALDESC:Events for East Cobb News
REFRESH-INTERVAL;VALUE=DURATION:PT1H
X-Robots-Tag:noindex
X-PUBLISHED-TTL:PT1H
BEGIN:VTIMEZONE
TZID:America/New_York
BEGIN:DAYLIGHT
TZOFFSETFROM:-0500
TZOFFSETTO:-0400
TZNAME:EDT
DTSTART:20250309T070000
END:DAYLIGHT
BEGIN:STANDARD
TZOFFSETFROM:-0400
TZOFFSETTO:-0500
TZNAME:EST
DTSTART:20251102T060000
END:STANDARD
BEGIN:DAYLIGHT
TZOFFSETFROM:-0500
TZOFFSETTO:-0400
TZNAME:EDT
DTSTART:20260308T070000
END:DAYLIGHT
BEGIN:STANDARD
TZOFFSETFROM:-0400
TZOFFSETTO:-0500
TZNAME:EST
DTSTART:20261101T060000
END:STANDARD
BEGIN:DAYLIGHT
TZOFFSETFROM:-0500
TZOFFSETTO:-0400
TZNAME:EDT
DTSTART:20270314T070000
END:DAYLIGHT
BEGIN:STANDARD
TZOFFSETFROM:-0400
TZOFFSETTO:-0500
TZNAME:EST
DTSTART:20271107T060000
END:STANDARD
END:VTIMEZONE
BEGIN:VEVENT
DTSTART;TZID=America/New_York:20260404T100000
DTEND;TZID=America/New_York:20260404T160000
DTSTAMP:20260423T144829
CREATED:20260316T211827Z
LAST-MODIFIED:20260316T211853Z
UID:56663-1775296800-1775318400@eastcobbnews.com
SUMMARY:Northeast Cobb Community Egg Drop
DESCRIPTION:Join your friends for the annual Northeast Cobb Community Egg Drop at Sprayberry High School on April 4\, 2026\, from 10 a.m. to 4 p.m. Hosted by Piedmont Church and Cobb County School District\, and sponsored by Superior Plumbing\, this event will be fun for the whole family. There will be food\, games\, a DJ\, activities\, and of course egg hunts for everyone. \nKids will marvel as a helicopter drops thousands of eggs onto the Sprayberry High School football field to kick off the hunt. There will be more than 90\,000 eggs and candy for the various hunts. \nThe funds raised from the Egg Drop will go to support multiple organizations in the community. Last year\, more than $18\,000 went right back to the community from this event. \nShare this post:Tweet\n				Share on Instagram (Opens in new window)\n				Instagram\n			\n				Email a link to a friend (Opens in new window)\n				Email\n			\n				Print (Opens in new window)\n				Print\n			Like this:Like Loading...
URL:https://eastcobbnews.com/event/northeast-cobb-community-egg-drop-april-4-2026/
LOCATION:Sprayberry High School\, 2525 Sandy Plains Road
CATEGORIES:Holiday Events
END:VEVENT
BEGIN:VEVENT
DTSTART;TZID=America/New_York:20260402T183000
DTEND;TZID=America/New_York:20260402T200000
DTSTAMP:20260423T144829
CREATED:20260316T200931Z
LAST-MODIFIED:20260316T200931Z
UID:56641-1775154600-1775160000@eastcobbnews.com
SUMMARY:Civil War Roundtable of Cobb County April Meeting
DESCRIPTION:The Civil War Roundtable of Cobb County (CWRTCC) will meet on Thursday\, April 2nd at the Hilton Atlanta/Marietta Hotel & Conference Center located at 500 Powder Springs Street in Marietta. There will be a social gathering at 6:30 pm prior to the 7 pm meeting.  The speaker will be A.Wilson Greene who will discuss “A Campaign of Giants\, The Battle for Petersburg.” The meeting will be available on Zoom. Paid members will receive the link via email. \nThe CWRTCC meets the first Thursday of each month and serves as a membership organization available to the public. The CWRTCC encourages the study\, analysis and appreciation of the events\, personalities\, records and publications associated with the American Civil War. Individuals who are visiting in person for the first time are free. \nFor further Info go to http://www.cobbcwrt.org. \nShare this post:Tweet\n				Share on Instagram (Opens in new window)\n				Instagram\n			\n				Email a link to a friend (Opens in new window)\n				Email\n			\n				Print (Opens in new window)\n				Print\n			Like this:Like Loading...
URL:https://eastcobbnews.com/event/civil-war-roundtable-of-cobb-county-april-meeting/
LOCATION:Hilton Atlanta/Marietta Hotel & Conference Center\, 500 Powder Springs St.\, Marietta
CATEGORIES:Community Events
END:VEVENT
BEGIN:VEVENT
DTSTART;TZID=America/New_York:20260402T073000
DTEND;TZID=America/New_York:20260402T090000
DTSTAMP:20260423T144829
CREATED:20260318T195629Z
LAST-MODIFIED:20260318T195713Z
UID:56708-1775115000-1775120400@eastcobbnews.com
SUMMARY:An Inside Look with Chief Dan Ferrell
DESCRIPTION:Join the East Cobb Area Council of the Cobb Chamber of Commerce for an opportunity to meet Dan Ferrell\, the newly appointed chief of the Cobb County Police Department. A three-decade law enforcement veteran\, Chief Ferrell began his career with the department in 1996 as a patrol officer and steadily rose through the ranks. He previously served in roles that included patrol\, SWAT operations\, investigations\, and executive leadership before being named chief in October 2025. \nChief Ferrell credits the department with shaping both his life and his leadership style\, and he believes that strong connections with the community are key to keeping Cobb County safe. Come learn about his priorities for the department\, including community outreach\, officer wellness\, and the thoughtful use of technology. \nOnline registration and refunds close Monday\, March 30th. \nShare this post:Tweet\n				Share on Instagram (Opens in new window)\n				Instagram\n			\n				Email a link to a friend (Opens in new window)\n				Email\n			\n				Print (Opens in new window)\n				Print\n			Like this:Like Loading...
URL:https://eastcobbnews.com/event/an-inside-look-with-chief-dan-ferrell/
LOCATION:Indian Hills Country Club\, 3001 Clubland Drive\, Marietta
CATEGORIES:Business Events
END:VEVENT
BEGIN:VEVENT
DTSTART;TZID=America/New_York:20260328T183000
DTEND;TZID=America/New_York:20260328T213000
DTSTAMP:20260423T144829
CREATED:20260212T181929Z
LAST-MODIFIED:20260212T182038Z
UID:56012-1774722600-1774733400@eastcobbnews.com
SUMMARY:Booked for the Evening Gala
DESCRIPTION:2026 Booked for the Evening Gala with Karen White\nSaturday\, March 28\, 2026 | 6:30 PM – 9:30 PM\nAtlanta Country Club \nThe Cobb Library Foundation’s signature annual fundraiser\, Booked for the Evening Gala\, will feature New York Times bestselling author Karen White as the 2026 literary guest. \nGuests will enjoy an elegant\, seated dinner at the prestigious Atlanta Country Club\, thoughtfully prepared and served in an intimate\, refined setting. The evening will include inspiring author remarks\, meaningful fellowship\, and opportunities to invest in the future of Cobb County’s libraries. This premier event blends fine dining with literary excellence for a truly memorable experience. \nThe Foundation is honored to have Bill Westenberger\, Chief of Police for the City of Kennesaw\, serving as the 2026 Honorary Chair. \nBooks will be available for purchase\, and a signing opportunity will follow the program. \nSponsorships and tickets are available now at cobblibraryfoundation.org/events/ \nShare this post:Tweet\n				Share on Instagram (Opens in new window)\n				Instagram\n			\n				Email a link to a friend (Opens in new window)\n				Email\n			\n				Print (Opens in new window)\n				Print\n			Like this:Like Loading...
URL:https://eastcobbnews.com/event/booked-for-the-evening-gala-march-28-2026/
LOCATION:Atlanta Country Club\, 100 Country Club Lane\, Marietta
CATEGORIES:Cultural Events
END:VEVENT
BEGIN:VEVENT
DTSTART;TZID=America/New_York:20260328T120000
DTEND;TZID=America/New_York:20260328T140000
DTSTAMP:20260423T144829
CREATED:20260316T203135Z
LAST-MODIFIED:20260316T203135Z
UID:56646-1774699200-1774706400@eastcobbnews.com
SUMMARY:'No Kings' Rally
DESCRIPTION: On March 28\, local Cobb County residents will come together with millions of Americans across the country in a nationwide day of nonviolent protest at the third No Kings National Day of Non-Violent Action. Currently there are over 2\,000 events nationwide and the number grows daily.\n\nThe current rate of venues signing up from across the U.S. and other countries is outpacing the last No Kings held in October 2025. Organizers are expecting participant numbers for this No Kings to far exceed the record-breaking attendance of the October rally.\n\nIndivisible Cobb’s NO KINGS 3 rally will take place at Freedom Corners\, the intersection of Johnson Ferry and Roswell Road\, from 12 pm- 2 pm.\n\n“This is bigger than political disagreement. The administration has defied our courts\, deported American citizens\, disappeared people off the streets\, and slashed essential services—all while orchestrating a massive giveaway to billionaires\,” said Stacey Parlotto\, an Indivisible Cobb leader. “In just 14 months\, Trump has used our military to strike eight countries\, most recently leading our country into to a rapidly expanding Middle East war without the constitutionally required consent of Congress or a clear goal. Enough is enough. For anyone who thinks they’ve gone too far\, this movement is for you\,” added Parlotto.\n\nWe’re excited to join with other groups organizing the No Kings non-violent protests across the country including ACLU\, American Federation of Teachers\, Common Defense\, 50501\, Human Rights Campaign\, Indivisible\, League of Conservation Voters\, MoveOn\, National Nurses United\, Public Citizen\, SEIU\, among others. A full list of partners can be seen at https://www.nokings.org/partners.\nShare this post:Tweet\n				Share on Instagram (Opens in new window)\n				Instagram\n			\n				Email a link to a friend (Opens in new window)\n				Email\n			\n				Print (Opens in new window)\n				Print\n			Like this:Like Loading...
URL:https://eastcobbnews.com/event/no-kings-rally-march-28-2026/
LOCATION:Johnson Ferry Road at Roswell Road
CATEGORIES:Political Events
END:VEVENT
BEGIN:VEVENT
DTSTART;TZID=America/New_York:20260328T110000
DTEND;TZID=America/New_York:20260328T160000
DTSTAMP:20260423T144829
CREATED:20260105T230707Z
LAST-MODIFIED:20260105T230707Z
UID:55227-1774695600-1774713600@eastcobbnews.com
SUMMARY:Cobb Public Services Renaissance Faire
DESCRIPTION:Hear ye\, hear ye! A grand decree\, a historic affair for all to see! Mark thy calendars don’t be late\, Cobb’s noble gathering – save the date! \nWe are excited to announce an inaugural Cobb County Public Services’  Renaissance Faire taking place on Saturday\, March 28\, 2026\, from 11:00 a.m. – 4:00 p.m. at the Mountain View campus in Marietta\, Georgia. This new event is being presented by Cobb PARKS in collaboration with Cobb Libraries and Senior Services\, and is designed as a fun\, single-day family-friendly prelude to the Georgia Renaissance Festival in Fairburn. \nOur goal is to bring the sights\, sounds\, and activities of the Renaissance era closer to home—right here in our own community. We envision an afternoon filled with demonstrations\, performances\, food\, crafts\, and interactive activities that showcase the spirit of the era. \nCurrently we are looking for a variety of vendors and artists for our artisan market\, food court area\, and demonstration section. If you would like to sell at our event\, please follow the links below. \n\nApplications will be juried and due to limited room available we will not be able to accept everyone.\nAcceptance emails will be sent out in January\, with the final cutoff date for entering an application on February 1st. Due to limited room\, applications may close sooner.\nThe $10 application fee must be paid through CivicRec using the link below or paid in person at The Art Place. There is no booth fee.\nNo tents\, chairs\, or tables will be provided. There will be no power supply for artisan market vendors. If you are accepted\, you are guaranteed a 10×10 spot only.\nThis event will occur rain or shine. Please plan accordingly.\nPlease read the vendor application and rules thoroughly. Noncompliance with Cobb County’s guidelines will not be tolerated.\n\nIf you are a local club\, business\, restaurant\, or organization\, we would love to have you! Reach out through our email info@artplacemarietta.org. \n \nShare this post:Tweet\n				Share on Instagram (Opens in new window)\n				Instagram\n			\n				Email a link to a friend (Opens in new window)\n				Email\n			\n				Print (Opens in new window)\n				Print\n			Like this:Like Loading...
URL:https://eastcobbnews.com/event/cobb-public-services-renaissance-faire/
LOCATION:The Art Place\, 3330 Sandy Plains Road\, Marietta
CATEGORIES:Cultural Events
END:VEVENT
BEGIN:VEVENT
DTSTART;TZID=America/New_York:20260328T100000
DTEND;TZID=America/New_York:20260328T160000
DTSTAMP:20260423T144829
CREATED:20260316T204253Z
LAST-MODIFIED:20260316T204259Z
UID:56653-1774692000-1774713600@eastcobbnews.com
SUMMARY:Grace Resurrection Methodist Art and Crafts Show
DESCRIPTION:Calling all talented GRMC artists\, craftsmen\, culinary and specialty folks for the 1st ever event at GRMC on Saturday\, March 28. \nNow is your opportunity to show and sell your special talents. We are looking for artwork\, jewelry\, baked goods\, woodwork\, pottery\, photography\, mixed media\, glasswork\, sculpture\, and other handmade goods. \nThis show will be open to the public to purchase your wares. More details to follow soon. \nTo register please contact Eddie Huffaker\, cehuffaker@gmail.com. \nShare this post:Tweet\n				Share on Instagram (Opens in new window)\n				Instagram\n			\n				Email a link to a friend (Opens in new window)\n				Email\n			\n				Print (Opens in new window)\n				Print\n			Like this:Like Loading...
URL:https://eastcobbnews.com/event/grace-resurrection-methodist-art-and-crafts-show/
LOCATION:Grace Resurrection Methodist Church\, 1200 Indian Hills Parkway
CATEGORIES:Arts and Entertainment Events
END:VEVENT
BEGIN:VEVENT
DTSTART;TZID=America/New_York:20260328T100000
DTEND;TZID=America/New_York:20260328T130000
DTSTAMP:20260423T144829
CREATED:20260327T174005Z
LAST-MODIFIED:20260327T174005Z
UID:56912-1774692000-1774702800@eastcobbnews.com
SUMMARY:Avenue East Cobb Bunny Bush
DESCRIPTION:Celebrate spring with a visit from the Easter Bunny at Avenue East Cobb! Bring the family\, strike a pose\, and capture a sweet Easter memory in a fun\, festive setting. \nEvent Activations:  \n\nBalloon twisters\nA Petting Zoo\nBrunch specials from Peach State Pizza\nBrunch specials from Round Trip Brewing\nKendra Scott Color Bar pop up experience\n\nTo keep the bunny photo experience smooth and enjoyable for everyone\, Easter Bunny photos will be offered through ticketed time slots from 10AM–12PM. Each ticket includes your family’s spot in line during the time frame you reserved\, and a photo print. \nFrom 12 –1PM\, walk-in photos will be available on a first-come\, first-served basis as space allows. Walk-in availability is limited and wait times may vary. We recommend purchasing tickets in advance to guarantee your spot. Walk-ins are welcome during the final hour while capacity permits. \nClick HERE to reserve your ticket.\nTime Slots:  \n\n10 – 12PM: Reserve your spot in line. \n12 – 1PM: Walk-ins may purchase tickets at the event on a first come\, first serve basis during this time.\n\nTicket Details:  \n\n$15 per ticket.\n1 ticket = 1 family/group.\nYour ticket includes your spot in line\, and a printed copy of your photo.\nAll ticket proceeds are donated to Children’s Healthcare of Atlanta. \n\nClick HERE to view FAQs. \nShare this post:Tweet\n				Share on Instagram (Opens in new window)\n				Instagram\n			\n				Email a link to a friend (Opens in new window)\n				Email\n			\n				Print (Opens in new window)\n				Print\n			Like this:Like Loading...
URL:https://eastcobbnews.com/event/avenue-east-cobb-bunny-bush/
LOCATION:Avenue East Cobb\, 4475 Roswell Road\, Marietta
CATEGORIES:Holiday Events
END:VEVENT
END:VCALENDAR