BEGIN:VCALENDAR
VERSION:2.0
PRODID:-//East Cobb News - ECPv6.15.20//NONSGML v1.0//EN
CALSCALE:GREGORIAN
METHOD:PUBLISH
X-WR-CALNAME:East Cobb News
X-ORIGINAL-URL:https://eastcobbnews.com
X-WR-CALDESC:Events for East Cobb News
REFRESH-INTERVAL;VALUE=DURATION:PT1H
X-Robots-Tag:noindex
X-PUBLISHED-TTL:PT1H
BEGIN:VTIMEZONE
TZID:America/New_York
BEGIN:DAYLIGHT
TZOFFSETFROM:-0500
TZOFFSETTO:-0400
TZNAME:EDT
DTSTART:20250309T070000
END:DAYLIGHT
BEGIN:STANDARD
TZOFFSETFROM:-0400
TZOFFSETTO:-0500
TZNAME:EST
DTSTART:20251102T060000
END:STANDARD
BEGIN:DAYLIGHT
TZOFFSETFROM:-0500
TZOFFSETTO:-0400
TZNAME:EDT
DTSTART:20260308T070000
END:DAYLIGHT
BEGIN:STANDARD
TZOFFSETFROM:-0400
TZOFFSETTO:-0500
TZNAME:EST
DTSTART:20261101T060000
END:STANDARD
BEGIN:DAYLIGHT
TZOFFSETFROM:-0500
TZOFFSETTO:-0400
TZNAME:EDT
DTSTART:20270314T070000
END:DAYLIGHT
BEGIN:STANDARD
TZOFFSETFROM:-0400
TZOFFSETTO:-0500
TZNAME:EST
DTSTART:20271107T060000
END:STANDARD
END:VTIMEZONE
BEGIN:VEVENT
DTSTART;TZID=America/New_York:20260507T190000
DTEND;TZID=America/New_York:20260507T210000
DTSTAMP:20260422T225206
CREATED:20260417T195749Z
LAST-MODIFIED:20260419T200449Z
UID:57436-1778180400-1778187600@eastcobbnews.com
SUMMARY:Civil War Roundtable of Cobb County Meeting
DESCRIPTION:The Civil War Roundtable of Cobb County (CWRTCC) will meet on Thursday\, May 5th at the Hilton Atlanta/Marietta Hotel & Conference Center located at 500 Powder Springs Street in Marietta. There will be a social gathering at 6:30 pm prior to the 7 pm meeting. The speaker will be Keith Bohannon who will discuss “Reenlistments in the Army of Tennessee in 1864.” The meeting will be available on Zoom. Paid members will receive the link via email. \nThe CWRTCC meets the first Thursday of each month and serves as a membership organization available to the public. The CWRTCC encourages the study\, analysis and appreciation of the events\, personalities\, records and publications associated with the American Civil War.  Individuals who are visiting in person for the first time are free. \nFor further Info go to http://www.cobbcwrt.org. \nShare this post:Tweet\n				Share on Instagram (Opens in new window)\n				Instagram\n			\n				Email a link to a friend (Opens in new window)\n				Email\n			\n				Print (Opens in new window)\n				Print\n			Like this:Like Loading...
URL:https://eastcobbnews.com/event/civil-war-roundtable-of-cobb-county-meeting-may-5-2026/
LOCATION:Hilton Atlanta/Marietta Hotel & Conference Center\, 500 Powder Springs St.\, Marietta
CATEGORIES:Public Meetings
END:VEVENT
END:VCALENDAR