BEGIN:VCALENDAR
VERSION:2.0
PRODID:-//East Cobb News - ECPv6.15.20//NONSGML v1.0//EN
CALSCALE:GREGORIAN
METHOD:PUBLISH
X-ORIGINAL-URL:https://eastcobbnews.com
X-WR-CALDESC:Events for East Cobb News
REFRESH-INTERVAL;VALUE=DURATION:PT1H
X-Robots-Tag:noindex
X-PUBLISHED-TTL:PT1H
BEGIN:VTIMEZONE
TZID:America/New_York
BEGIN:DAYLIGHT
TZOFFSETFROM:-0500
TZOFFSETTO:-0400
TZNAME:EDT
DTSTART:20250309T070000
END:DAYLIGHT
BEGIN:STANDARD
TZOFFSETFROM:-0400
TZOFFSETTO:-0500
TZNAME:EST
DTSTART:20251102T060000
END:STANDARD
BEGIN:DAYLIGHT
TZOFFSETFROM:-0500
TZOFFSETTO:-0400
TZNAME:EDT
DTSTART:20260308T070000
END:DAYLIGHT
BEGIN:STANDARD
TZOFFSETFROM:-0400
TZOFFSETTO:-0500
TZNAME:EST
DTSTART:20261101T060000
END:STANDARD
BEGIN:DAYLIGHT
TZOFFSETFROM:-0500
TZOFFSETTO:-0400
TZNAME:EDT
DTSTART:20270314T070000
END:DAYLIGHT
BEGIN:STANDARD
TZOFFSETFROM:-0400
TZOFFSETTO:-0500
TZNAME:EST
DTSTART:20271107T060000
END:STANDARD
END:VTIMEZONE
BEGIN:VEVENT
DTSTART;TZID=America/New_York:20260503T150000
DTEND;TZID=America/New_York:20260503T170000
DTSTAMP:20260423T065900
CREATED:20260316T195756Z
LAST-MODIFIED:20260316T200454Z
UID:56634-1777820400-1777827600@eastcobbnews.com
SUMMARY:Coro Vocati Concert
DESCRIPTION:“Dirt Roads and Footpaths”\nSome roads are simple stretches of earth; some paths have been walked for centuries. “Dirt Roads and Footpaths” will take inspiration from both. The music of this concert will mirror these travels of the heart and mind. John Corigliano’s setting of Dylan Thomas’ “Fern Hill” captures the fleeting wonder of youth and memory\, while other works illuminate the landscapes\, challenges\, and joys of the human journey. Coro Vocati has established itself as one of the premier professional choral ensembles in the southeast\, featuring some of the region’s most talented vocalists in polished performances celebrating unique and intriguing programming. With a repertoire spanning the breadth of choral literature\, from early music and time honored classics to new works\, their performances represent a diversity of musical styles and cultural backgrounds. St. Catherine’s Episcopal Church is proud to host Coro Vocati as an ensemble in residence for rehearsals and performances in our facility. \nhttps://www.corovocati.org/ \nThe Friends of Music at St. Catherine’s present the annual Concert Series\, free and open-to-the-public\nconcerts featuring nationally and internationally recognized performers. \nShare this post:Tweet\n				Share on Instagram (Opens in new window)\n				Instagram\n			\n				Email a link to a friend (Opens in new window)\n				Email\n			\n				Print (Opens in new window)\n				Print\n			Like this:Like Loading...
URL:https://eastcobbnews.com/event/coro-vocati-concert-may-3-2026/
LOCATION:St. Catherine’s Episcopal Church\, 571 Holt Road\, Marietta\, GA
CATEGORIES:Arts and Entertainment Events
END:VEVENT
BEGIN:VEVENT
DTSTART;TZID=America/New_York:20260503T150000
DTEND;TZID=America/New_York:20260503T170000
DTSTAMP:20260423T065900
CREATED:20260409T190103Z
LAST-MODIFIED:20260409T190103Z
UID:57164-1777820400-1777827600@eastcobbnews.com
SUMMARY:Rusted Melody—East Cobb Park Concert Series
DESCRIPTION:A free concert takes place at the concert shell. Bring chairs/blankets and food to enjoy. \nRustedMelody is an American folk duo from the Appalachian Mountains of North Georgia. \nShare this post:Tweet\n				Share on Instagram (Opens in new window)\n				Instagram\n			\n				Email a link to a friend (Opens in new window)\n				Email\n			\n				Print (Opens in new window)\n				Print\n			Like this:Like Loading...
URL:https://eastcobbnews.com/event/rusted-melody-east-cobb-park-concert-series/
LOCATION:East Cobb Park\, 3322 Roswell Road\, Marietta
CATEGORIES:Arts and Entertainment Events
END:VEVENT
END:VCALENDAR