BEGIN:VCALENDAR
VERSION:2.0
PRODID:-//East Cobb News - ECPv6.15.20//NONSGML v1.0//EN
CALSCALE:GREGORIAN
METHOD:PUBLISH
X-ORIGINAL-URL:https://eastcobbnews.com
X-WR-CALDESC:Events for East Cobb News
REFRESH-INTERVAL;VALUE=DURATION:PT1H
X-Robots-Tag:noindex
X-PUBLISHED-TTL:PT1H
BEGIN:VTIMEZONE
TZID:America/New_York
BEGIN:DAYLIGHT
TZOFFSETFROM:-0500
TZOFFSETTO:-0400
TZNAME:EDT
DTSTART:20250309T070000
END:DAYLIGHT
BEGIN:STANDARD
TZOFFSETFROM:-0400
TZOFFSETTO:-0500
TZNAME:EST
DTSTART:20251102T060000
END:STANDARD
BEGIN:DAYLIGHT
TZOFFSETFROM:-0500
TZOFFSETTO:-0400
TZNAME:EDT
DTSTART:20260308T070000
END:DAYLIGHT
BEGIN:STANDARD
TZOFFSETFROM:-0400
TZOFFSETTO:-0500
TZNAME:EST
DTSTART:20261101T060000
END:STANDARD
BEGIN:DAYLIGHT
TZOFFSETFROM:-0500
TZOFFSETTO:-0400
TZNAME:EDT
DTSTART:20270314T070000
END:DAYLIGHT
BEGIN:STANDARD
TZOFFSETFROM:-0400
TZOFFSETTO:-0500
TZNAME:EST
DTSTART:20271107T060000
END:STANDARD
END:VTIMEZONE
BEGIN:VEVENT
DTSTART;TZID=America/New_York:20260421T100000
DTEND;TZID=America/New_York:20260421T140000
DTSTAMP:20260423T050844
CREATED:20260212T193941Z
LAST-MODIFIED:20260212T193941Z
UID:56038-1776765600-1776780000@eastcobbnews.com
SUMMARY:Cobb Senior Services Expo
DESCRIPTION:Cobb County Senior Services’ Annual Expo is returning this year to a new location. Make plans to attend 10 a.m. – 2 p.m. April 21 at Jim R. Miller Park and Event Center. This larger venue will provide more space for seniors\, their caregivers and families to connect with valuable resources\, receive health screenings\, and enjoy fitness demonstrations. \nCurrently\, Senior Services is seeking local businesses and community organizations that cater to older adults to participate as vendors. Last year’s event attracted more than 1\,800 attendees\, making it a high-visibility\, impactful community event. \nFor more information or to reserve a spot as a vendor\, visit here. \nShare this post:Tweet\n				Share on Instagram (Opens in new window)\n				Instagram\n			\n				Email a link to a friend (Opens in new window)\n				Email\n			\n				Print (Opens in new window)\n				Print\n			Like this:Like Loading...
URL:https://eastcobbnews.com/event/cobb-senior-services-expo-april-21-2026/
LOCATION:Jim Miller Park and Event Center\, 2245 Callaway Road\, Marietta
CATEGORIES:Seniors Events
END:VEVENT
BEGIN:VEVENT
DTSTART;TZID=America/New_York:20260421T180000
DTEND;TZID=America/New_York:20260421T193000
DTSTAMP:20260423T050844
CREATED:20260417T200248Z
LAST-MODIFIED:20260417T200338Z
UID:57438-1776794400-1776799800@eastcobbnews.com
SUMMARY:Cobb County Library Foundation Fundraiser
DESCRIPTION:Meet award-winning author Brad Taylor as he discusses the new edition to his Pike Logan Series: SHADOW STRIKE. Join us for the Cobb Library Foundation Fundraiser at North Cobb Regional Library on April 21st at 6:00pm and best-selling author Brad Taylor’s discussion on his new novel.\nRegister HERE\nABOUT SHADOW STRIKE\nNew York Times bestselling author and former special forces officer Brad Taylor is back with a dynamic political thriller featuring Pike Logan as he goes head-to-head with an old enemy—and renowned assassin. \nAfter its proxies are devastated and its offensive capability pummeled in the latest war in the Middle East\, a rogue group of Iranian regime officials create a brazen plot to strike back at their hated enemies once and for all. They envision a series of operational dominos culminating in a devastating attack\, and the first step is the assassination of the Israeli prime minister. And there’s only one assassin with the skills to pull it off: Abdul Rahman\, known in the shadows as the Ghost. \nShare this post:Tweet\n				Share on Instagram (Opens in new window)\n				Instagram\n			\n				Email a link to a friend (Opens in new window)\n				Email\n			\n				Print (Opens in new window)\n				Print\n			Like this:Like Loading...
URL:https://eastcobbnews.com/event/cobb-county-library-foundation-fundraiser-april-21-2026/
LOCATION:North Cobb Regional Library\, 3535 Old 41 Highway\, Kennesaw
CATEGORIES:Arts and Entertainment Events
END:VEVENT
END:VCALENDAR