BEGIN:VCALENDAR
VERSION:2.0
PRODID:-//East Cobb News - ECPv6.15.20//NONSGML v1.0//EN
CALSCALE:GREGORIAN
METHOD:PUBLISH
X-WR-CALNAME:East Cobb News
X-ORIGINAL-URL:https://eastcobbnews.com
X-WR-CALDESC:Events for East Cobb News
REFRESH-INTERVAL;VALUE=DURATION:PT1H
X-Robots-Tag:noindex
X-PUBLISHED-TTL:PT1H
BEGIN:VTIMEZONE
TZID:America/New_York
BEGIN:DAYLIGHT
TZOFFSETFROM:-0500
TZOFFSETTO:-0400
TZNAME:EDT
DTSTART:20250309T070000
END:DAYLIGHT
BEGIN:STANDARD
TZOFFSETFROM:-0400
TZOFFSETTO:-0500
TZNAME:EST
DTSTART:20251102T060000
END:STANDARD
BEGIN:DAYLIGHT
TZOFFSETFROM:-0500
TZOFFSETTO:-0400
TZNAME:EDT
DTSTART:20260308T070000
END:DAYLIGHT
BEGIN:STANDARD
TZOFFSETFROM:-0400
TZOFFSETTO:-0500
TZNAME:EST
DTSTART:20261101T060000
END:STANDARD
BEGIN:DAYLIGHT
TZOFFSETFROM:-0500
TZOFFSETTO:-0400
TZNAME:EDT
DTSTART:20270314T070000
END:DAYLIGHT
BEGIN:STANDARD
TZOFFSETFROM:-0400
TZOFFSETTO:-0500
TZNAME:EST
DTSTART:20271107T060000
END:STANDARD
END:VTIMEZONE
BEGIN:VEVENT
DTSTART;TZID=America/New_York:20260419T150000
DTEND;TZID=America/New_York:20260419T170000
DTSTAMP:20260423T051540
CREATED:20260409T185429Z
LAST-MODIFIED:20260409T185429Z
UID:57160-1776610800-1776618000@eastcobbnews.com
SUMMARY:Loose Shoes—East Cobb Park Concert Series
DESCRIPTION:Come out for our free concert series at the park!\n\nIn one form or another\, The LooSe ShoEs Band has been playing live blues and Rock ‘n Roll together since 2001. A Georgia favorite\, the five members of this melodic band have a collective 100+ years of reforming music!\nShare this post:Tweet\n				Share on Instagram (Opens in new window)\n				Instagram\n			\n				Email a link to a friend (Opens in new window)\n				Email\n			\n				Print (Opens in new window)\n				Print\n			Like this:Like Loading...
URL:https://eastcobbnews.com/event/loose-shoes-east-cobb-park-concert-series/
LOCATION:East Cobb Park\, 3322 Roswell Road\, Marietta
CATEGORIES:Arts and Entertainment Events
END:VEVENT
END:VCALENDAR