BEGIN:VCALENDAR
VERSION:2.0
PRODID:-//East Cobb News - ECPv6.15.20//NONSGML v1.0//EN
CALSCALE:GREGORIAN
METHOD:PUBLISH
X-WR-CALNAME:East Cobb News
X-ORIGINAL-URL:https://eastcobbnews.com
X-WR-CALDESC:Events for East Cobb News
REFRESH-INTERVAL;VALUE=DURATION:PT1H
X-Robots-Tag:noindex
X-PUBLISHED-TTL:PT1H
BEGIN:VTIMEZONE
TZID:America/New_York
BEGIN:DAYLIGHT
TZOFFSETFROM:-0500
TZOFFSETTO:-0400
TZNAME:EDT
DTSTART:20250309T070000
END:DAYLIGHT
BEGIN:STANDARD
TZOFFSETFROM:-0400
TZOFFSETTO:-0500
TZNAME:EST
DTSTART:20251102T060000
END:STANDARD
BEGIN:DAYLIGHT
TZOFFSETFROM:-0500
TZOFFSETTO:-0400
TZNAME:EDT
DTSTART:20260308T070000
END:DAYLIGHT
BEGIN:STANDARD
TZOFFSETFROM:-0400
TZOFFSETTO:-0500
TZNAME:EST
DTSTART:20261101T060000
END:STANDARD
BEGIN:DAYLIGHT
TZOFFSETFROM:-0500
TZOFFSETTO:-0400
TZNAME:EDT
DTSTART:20270314T070000
END:DAYLIGHT
BEGIN:STANDARD
TZOFFSETFROM:-0400
TZOFFSETTO:-0500
TZNAME:EST
DTSTART:20271107T060000
END:STANDARD
END:VTIMEZONE
BEGIN:VEVENT
DTSTART;TZID=America/New_York:20260418T090000
DTEND;TZID=America/New_York:20260418T140000
DTSTAMP:20260423T052429
CREATED:20260409T191230Z
LAST-MODIFIED:20260409T191230Z
UID:57168-1776502800-1776520800@eastcobbnews.com
SUMMARY:Pope Band Recycling Day
DESCRIPTION:Recycle and Clear the Clutter \nReady to make a difference? Join the Pope High School Band for Community Recycling Day! \nSaturday\, April 18th 9am – 2pm NE Cobb Family YMCA Bring your recyclables and help us keep our community clean! \nRecycling pick-ups available with advance reservation. For details\, fees\, and a full list of accepted items\, visit popeband.com/recycling. \nQuestions or want to schedule a pick-up? Email us at popebandrecycling@gmail.com Let’s recycle together! \nShare this post:Tweet\n				Share on Instagram (Opens in new window)\n				Instagram\n			\n				Email a link to a friend (Opens in new window)\n				Email\n			\n				Print (Opens in new window)\n				Print\n			Like this:Like Loading...
URL:https://eastcobbnews.com/event/pope-band-recycling-day-april-18-2026/
LOCATION:Northeast Cobb YMCA\, 3010 Johnson Ferry Road\, Marietta
CATEGORIES:Environment and Nature Events
END:VEVENT
BEGIN:VEVENT
DTSTART;TZID=America/New_York:20260418T100000
DTEND;TZID=America/New_York:20260418T160000
DTSTAMP:20260423T052429
CREATED:20260112T214610Z
LAST-MODIFIED:20260112T214610Z
UID:55396-1776506400-1776528000@eastcobbnews.com
SUMMARY:Cobb Master Gardeners 26th Annual Plant Sale and Expo
DESCRIPTION:Join us in celebrating Spring with the Cobb Master Gardeners! Pick up plants homegrown by local Master Gardeners\, visit our free Kids Corner to play and learn\, and check out our Yard Sale for some interesting finds! \nIn addition\, shop for plants from all over the Southeast\, locally sourced honey/herbs/sauces\, bird accessories\, wood/glass crafts\, yard art\, and more. \nApril 17th-18th\, 2026\, from 10:00 am to 4:00 pm at Jim R. Miller Park. Admission and parking are free. Learn more at cobbmastergardeners.com/calendar/plant-sale. \nShare this post:Tweet\n				Share on Instagram (Opens in new window)\n				Instagram\n			\n				Email a link to a friend (Opens in new window)\n				Email\n			\n				Print (Opens in new window)\n				Print\n			Like this:Like Loading...
URL:https://eastcobbnews.com/event/cobb-master-gardeners-26th-annual-plant-sale-and-expo-april-18-2026/
LOCATION:Jim Miller Park and Event Center\, 2245 Callaway Road\, Marietta
CATEGORIES:Home and Garden Events
END:VEVENT
BEGIN:VEVENT
DTSTART;TZID=America/New_York:20260418T100000
DTEND;TZID=America/New_York:20260418T160000
DTSTAMP:20260423T052429
CREATED:20260413T170100Z
LAST-MODIFIED:20260413T170100Z
UID:57308-1776506400-1776528000@eastcobbnews.com
SUMMARY:Cobb Spring Arts Festival
DESCRIPTION:Shop\, eat\, and be entertained at the Cobb Spring Arts Festival. Explore handmade goods\, artwork\, and creative treasures. Find unique presents for Mother’s Day\, Father’s Day and other special occasions. Browse the marketplace\, have a bite at local food trucks\, and take in live performances. Kids will love the interactive arts experiences. \nSaturday\, April 18\, 10 a.m. – 4 p.m.\nJim R. Miller Park and Event Center\n2245 Callaway Road SW\, Marietta \nWhile you’re there\, pop over to the Plant Sale and Expo hosted by the Master Gardener Volunteers of Cobb. Shop for locally grown plants\, garden supplies\, bee stuff\, bird stuff\, yard art and more\, 10 a.m. – 4 p.m. Saturday under the covered arena. \nShare this post:Tweet\n				Share on Instagram (Opens in new window)\n				Instagram\n			\n				Email a link to a friend (Opens in new window)\n				Email\n			\n				Print (Opens in new window)\n				Print\n			Like this:Like Loading...
URL:https://eastcobbnews.com/event/cobb-spring-arts-festival/
LOCATION:Jim Miller Park and Event Center\, 2245 Callaway Road\, Marietta
CATEGORIES:Cultural Events
END:VEVENT
BEGIN:VEVENT
DTSTART;TZID=America/New_York:20260418T110000
DTEND;TZID=America/New_York:20260418T130000
DTSTAMP:20260423T052429
CREATED:20260410T174614Z
LAST-MODIFIED:20260410T174643Z
UID:57212-1776510000-1776517200@eastcobbnews.com
SUMMARY:Good Mews Kitten Shower
DESCRIPTION:Join Good Mews and Planned Pethood for a special Kitten Shower on Saturday\, April 18th from 11 AM–1 PM! Celebrate the start of kitten season while learning how we care for our most vulnerable arrivals and how you can care for kittens.\n\n\n\nWellstar Conference Room\n\n\n\nThis casual\, informative event will feature a bottle-feeding and neonate care discussion\, followed by a Q&A where you can ask all your kitten-care questions. We’ll also have fun activities & games!\n\n\n\nWhether you’re a seasoned foster\, a curious animal lover\, or someone who simply wants to help tiny lives thrive\, this event is the perfect way to get involved with us. Come learn\, connect\, and help us prepare for a busy kitten season ahead!\n\n\n\nThis event is free to attend\, but donations are appreciated! \n\n\nSpace is limited. Sign up here: https://givebutter.com/kitten-shower-2026\n\nShare this post:Tweet\n				Share on Instagram (Opens in new window)\n				Instagram\n			\n				Email a link to a friend (Opens in new window)\n				Email\n			\n				Print (Opens in new window)\n				Print\n			Like this:Like Loading...
URL:https://eastcobbnews.com/event/good-mews-kitten-shower/
LOCATION:Wellstar East Cobb Health Park\, 3747 Roswell Road\, Marietta
CATEGORIES:Pets and Animals Events
END:VEVENT
BEGIN:VEVENT
DTSTART;TZID=America/New_York:20260418T130000
DTEND;TZID=America/New_York:20260418T150000
DTSTAMP:20260423T052429
CREATED:20260413T194035Z
LAST-MODIFIED:20260413T194718Z
UID:57347-1776517200-1776524400@eastcobbnews.com
SUMMARY:Wear It\, Fix It! A Clothing Repair Clinic
DESCRIPTION:Wear It\, Fix It! A Clothing Repair Clinic\nSaturday\, April 18\, 2026 1:00 – 3:00 pm\nEast Cobb Library Community Room\n4880 Lower Roswell Road\, Marietta\, GA 30068 \nIs there a hole in your favorite shirt\, but you don’t know how to fix it? Join East Cobb Library on Saturday\, April 18\, 2026\, from 1-3pm for a clothing repair clinic where volunteer sewing aficionados will be ready to help fix your garments. \nBeyond fixing garments\, This clinic will provide community members a chance to learn and exchange fundamental sewing and repair skills while mending their garments. To encourage environmental sustainability and minimize landfill waste\, the event will focus on: \n\nUsing basic hand sewing to mend minor tears and rips\nCreating and applying patches\nReinforcing fabric that has become worn\nReconstructing hems and seams\n\n\nParticipants will also have access to a dedicated DIY area\, complimentary repair supplies\, educational materials\, and repair guides. Please be aware that this clinic is intended for repairs only; no alterations will be performed. There is a limit of one item per person\, and no prior registration is necessary. This event is proudly sponsored by Stitched Gifts and Parkaire Landing Plaza.\nShare this post:Tweet\n				Share on Instagram (Opens in new window)\n				Instagram\n			\n				Email a link to a friend (Opens in new window)\n				Email\n			\n				Print (Opens in new window)\n				Print\n			Like this:Like Loading...
URL:https://eastcobbnews.com/event/wear-it-fix-it-a-clothing-repair-clinic/
LOCATION:East Cobb Library\, 4880 Lower Roswell Road\, Marietta
CATEGORIES:Community Events
END:VEVENT
BEGIN:VEVENT
DTSTART;TZID=America/New_York:20260418T160000
DTEND;TZID=America/New_York:20260418T180000
DTSTAMP:20260423T052429
CREATED:20260413T170701Z
LAST-MODIFIED:20260413T170701Z
UID:57311-1776528000-1776535200@eastcobbnews.com
SUMMARY:Paint Like Bob Ross
DESCRIPTION:Bob Ross Rhythm/Wilderness Way – Paint Like Bob Ross\nApr 19\, 2026\n4:00pm to 6:00pm\nPeachtree Art Center 2601 Sandy Plains Rd Marietta\, GA 30066\n$45.00\nBob Ross Rythym/Wilderness Way. Paint just like Bob with Certified Ross Instructor Angela Sigari. Oil on 16×20 stretched canvas. All ages and skill levels welcome. All materials supplied. Two hours. $45. Free snacks and refreshments. Instructor: Angela Oh\, and don’t forget to get our ‘Happy Accidents’ Rewards Card while you’re here – start earning your way to a FREE class! (For details\, click here: https://peachtreeartcenter.com/products/happy-accidents-rewards-card ). \n \nShare this post:Tweet\n				Share on Instagram (Opens in new window)\n				Instagram\n			\n				Email a link to a friend (Opens in new window)\n				Email\n			\n				Print (Opens in new window)\n				Print\n			Like this:Like Loading...
URL:https://eastcobbnews.com/event/paint-like-bob-ross/
LOCATION:Peachtree Art Center\, 2601 Sandy Plains Road\, Marietta
CATEGORIES:Arts and Entertainment Events
END:VEVENT
END:VCALENDAR