BEGIN:VCALENDAR
VERSION:2.0
PRODID:-//East Cobb News - ECPv6.15.20//NONSGML v1.0//EN
CALSCALE:GREGORIAN
METHOD:PUBLISH
X-WR-CALNAME:East Cobb News
X-ORIGINAL-URL:https://eastcobbnews.com
X-WR-CALDESC:Events for East Cobb News
REFRESH-INTERVAL;VALUE=DURATION:PT1H
X-Robots-Tag:noindex
X-PUBLISHED-TTL:PT1H
BEGIN:VTIMEZONE
TZID:America/New_York
BEGIN:DAYLIGHT
TZOFFSETFROM:-0500
TZOFFSETTO:-0400
TZNAME:EDT
DTSTART:20250309T070000
END:DAYLIGHT
BEGIN:STANDARD
TZOFFSETFROM:-0400
TZOFFSETTO:-0500
TZNAME:EST
DTSTART:20251102T060000
END:STANDARD
BEGIN:DAYLIGHT
TZOFFSETFROM:-0500
TZOFFSETTO:-0400
TZNAME:EDT
DTSTART:20260308T070000
END:DAYLIGHT
BEGIN:STANDARD
TZOFFSETFROM:-0400
TZOFFSETTO:-0500
TZNAME:EST
DTSTART:20261101T060000
END:STANDARD
BEGIN:DAYLIGHT
TZOFFSETFROM:-0500
TZOFFSETTO:-0400
TZNAME:EDT
DTSTART:20270314T070000
END:DAYLIGHT
BEGIN:STANDARD
TZOFFSETFROM:-0400
TZOFFSETTO:-0500
TZNAME:EST
DTSTART:20271107T060000
END:STANDARD
END:VTIMEZONE
BEGIN:VEVENT
DTSTART;TZID=America/New_York:20260417T100000
DTEND;TZID=America/New_York:20260417T160000
DTSTAMP:20260423T050638
CREATED:20260112T214416Z
LAST-MODIFIED:20260112T214416Z
UID:55394-1776420000-1776441600@eastcobbnews.com
SUMMARY:Cobb Master Gardeners 26th Annual Plant Sale and Expo
DESCRIPTION:Join us in celebrating Spring with the Cobb Master Gardeners! Pick up plants homegrown by local Master Gardeners\, visit our free Kids Corner to play and learn\, and check out our Yard Sale for some interesting finds! \nIn addition\, shop for plants from all over the Southeast\, locally sourced honey/herbs/sauces\, bird accessories\, wood/glass crafts\, yard art\, and more. \nApril 17th-18th\, 2026\, from 10:00 am to 4:00 pm at Jim R. Miller Park. Admission and parking are free. Learn more at cobbmastergardeners.com/calendar/plant-sale. \nShare this post:Tweet\n				Share on Instagram (Opens in new window)\n				Instagram\n			\n				Email a link to a friend (Opens in new window)\n				Email\n			\n				Print (Opens in new window)\n				Print\n			Like this:Like Loading...
URL:https://eastcobbnews.com/event/the-26th-annual-plant-sale-expo-april-17-2026/
LOCATION:Jim Miller Park and Event Center\, 2245 Callaway Road\, Marietta
CATEGORIES:Home and Garden Events
END:VEVENT
END:VCALENDAR