BEGIN:VCALENDAR
VERSION:2.0
PRODID:-//East Cobb News - ECPv6.15.20//NONSGML v1.0//EN
CALSCALE:GREGORIAN
METHOD:PUBLISH
X-ORIGINAL-URL:https://eastcobbnews.com
X-WR-CALDESC:Events for East Cobb News
REFRESH-INTERVAL;VALUE=DURATION:PT1H
X-Robots-Tag:noindex
X-PUBLISHED-TTL:PT1H
BEGIN:VTIMEZONE
TZID:America/New_York
BEGIN:DAYLIGHT
TZOFFSETFROM:-0500
TZOFFSETTO:-0400
TZNAME:EDT
DTSTART:20250309T070000
END:DAYLIGHT
BEGIN:STANDARD
TZOFFSETFROM:-0400
TZOFFSETTO:-0500
TZNAME:EST
DTSTART:20251102T060000
END:STANDARD
BEGIN:DAYLIGHT
TZOFFSETFROM:-0500
TZOFFSETTO:-0400
TZNAME:EDT
DTSTART:20260308T070000
END:DAYLIGHT
BEGIN:STANDARD
TZOFFSETFROM:-0400
TZOFFSETTO:-0500
TZNAME:EST
DTSTART:20261101T060000
END:STANDARD
BEGIN:DAYLIGHT
TZOFFSETFROM:-0500
TZOFFSETTO:-0400
TZNAME:EDT
DTSTART:20270314T070000
END:DAYLIGHT
BEGIN:STANDARD
TZOFFSETFROM:-0400
TZOFFSETTO:-0500
TZNAME:EST
DTSTART:20271107T060000
END:STANDARD
END:VTIMEZONE
BEGIN:VEVENT
DTSTART;TZID=America/New_York:20260404T100000
DTEND;TZID=America/New_York:20260404T160000
DTSTAMP:20260423T052641
CREATED:20260316T211827Z
LAST-MODIFIED:20260316T211853Z
UID:56663-1775296800-1775318400@eastcobbnews.com
SUMMARY:Northeast Cobb Community Egg Drop
DESCRIPTION:Join your friends for the annual Northeast Cobb Community Egg Drop at Sprayberry High School on April 4\, 2026\, from 10 a.m. to 4 p.m. Hosted by Piedmont Church and Cobb County School District\, and sponsored by Superior Plumbing\, this event will be fun for the whole family. There will be food\, games\, a DJ\, activities\, and of course egg hunts for everyone. \nKids will marvel as a helicopter drops thousands of eggs onto the Sprayberry High School football field to kick off the hunt. There will be more than 90\,000 eggs and candy for the various hunts. \nThe funds raised from the Egg Drop will go to support multiple organizations in the community. Last year\, more than $18\,000 went right back to the community from this event. \nShare this post:Tweet\n				Share on Instagram (Opens in new window)\n				Instagram\n			\n				Email a link to a friend (Opens in new window)\n				Email\n			\n				Print (Opens in new window)\n				Print\n			Like this:Like Loading...
URL:https://eastcobbnews.com/event/northeast-cobb-community-egg-drop-april-4-2026/
LOCATION:Sprayberry High School\, 2525 Sandy Plains Road
CATEGORIES:Holiday Events
END:VEVENT
END:VCALENDAR